BEGIN:VCALENDAR
VERSION:2.0
PRODID:-//Iron Smoke Distillery - ECPv6.15.16.1//NONSGML v1.0//EN
CALSCALE:GREGORIAN
METHOD:PUBLISH
X-WR-CALNAME:Iron Smoke Distillery
X-ORIGINAL-URL:https://ironsmokedistillery.com
X-WR-CALDESC:Events for Iron Smoke Distillery
REFRESH-INTERVAL;VALUE=DURATION:PT1H
X-Robots-Tag:noindex
X-PUBLISHED-TTL:PT1H
BEGIN:VTIMEZONE
TZID:America/New_York
BEGIN:DAYLIGHT
TZOFFSETFROM:-0500
TZOFFSETTO:-0400
TZNAME:EDT
DTSTART:20230312T070000
END:DAYLIGHT
BEGIN:STANDARD
TZOFFSETFROM:-0400
TZOFFSETTO:-0500
TZNAME:EST
DTSTART:20231105T060000
END:STANDARD
BEGIN:DAYLIGHT
TZOFFSETFROM:-0500
TZOFFSETTO:-0400
TZNAME:EDT
DTSTART:20240310T070000
END:DAYLIGHT
BEGIN:STANDARD
TZOFFSETFROM:-0400
TZOFFSETTO:-0500
TZNAME:EST
DTSTART:20241103T060000
END:STANDARD
BEGIN:DAYLIGHT
TZOFFSETFROM:-0500
TZOFFSETTO:-0400
TZNAME:EDT
DTSTART:20250309T070000
END:DAYLIGHT
BEGIN:STANDARD
TZOFFSETFROM:-0400
TZOFFSETTO:-0500
TZNAME:EST
DTSTART:20251102T060000
END:STANDARD
END:VTIMEZONE
BEGIN:VEVENT
DTSTART;TZID=America/New_York:20241006T153000
DTEND;TZID=America/New_York:20241006T183000
DTSTAMP:20260421T110942
CREATED:20240814T160629Z
LAST-MODIFIED:20240909T173611Z
UID:10001316-1728228600-1728239400@ironsmokedistillery.com
SUMMARY:Acoustic: Absolute Maybe
DESCRIPTION:Join us for an afternoon of fall-weather fun and music. Iron Smoke is where all the cool people hang out. October 6th 3:30pm – 6:30pm… NO COVER
URL:https://ironsmokedistillery.com/event/acoustic-absolute-maybe-2/
LOCATION:Iron Smoke Distillery\, 111 Parce Ave\, Fairport\, New York\, 14450\, United States
ATTACH;FMTTYPE=image/png:https://ironsmokedistillery.com/wp-content/uploads/2022/10/Screen-Shot-2022-10-26-at-2.07.24-PM.png
END:VEVENT
END:VCALENDAR