BEGIN:VCALENDAR
VERSION:2.0
PRODID:-//Iron Smoke Distillery - ECPv6.15.16.1//NONSGML v1.0//EN
CALSCALE:GREGORIAN
METHOD:PUBLISH
X-WR-CALNAME:Iron Smoke Distillery
X-ORIGINAL-URL:https://ironsmokedistillery.com
X-WR-CALDESC:Events for Iron Smoke Distillery
REFRESH-INTERVAL;VALUE=DURATION:PT1H
X-Robots-Tag:noindex
X-PUBLISHED-TTL:PT1H
BEGIN:VTIMEZONE
TZID:America/New_York
BEGIN:DAYLIGHT
TZOFFSETFROM:-0500
TZOFFSETTO:-0400
TZNAME:EDT
DTSTART:20240310T070000
END:DAYLIGHT
BEGIN:STANDARD
TZOFFSETFROM:-0400
TZOFFSETTO:-0500
TZNAME:EST
DTSTART:20241103T060000
END:STANDARD
BEGIN:DAYLIGHT
TZOFFSETFROM:-0500
TZOFFSETTO:-0400
TZNAME:EDT
DTSTART:20250309T070000
END:DAYLIGHT
BEGIN:STANDARD
TZOFFSETFROM:-0400
TZOFFSETTO:-0500
TZNAME:EST
DTSTART:20251102T060000
END:STANDARD
BEGIN:DAYLIGHT
TZOFFSETFROM:-0500
TZOFFSETTO:-0400
TZNAME:EDT
DTSTART:20260308T070000
END:DAYLIGHT
BEGIN:STANDARD
TZOFFSETFROM:-0400
TZOFFSETTO:-0500
TZNAME:EST
DTSTART:20261101T060000
END:STANDARD
END:VTIMEZONE
BEGIN:VEVENT
DTSTART;TZID=America/New_York:20250715T183000
DTEND;TZID=America/New_York:20250715T213000
DTSTAMP:20260419T102700
CREATED:20250708T171213Z
LAST-MODIFIED:20250714T192340Z
UID:10001506-1752604200-1752615000@ironsmokedistillery.com
SUMMARY:"Four The Byrds"- A Tribute to the Byrds First Four Albums
DESCRIPTION:The Byrds had a significant influence on music in the 1960’s. “Four The Byrds” was founded by Paul Carpenter with the specific intent of keeping the early Byrds music alive. The band is comprised of seasoned local musicians\, including Paul Carpenter on 12-string Rickenbacker\, Dana Gregory on drums\, James Via on guitar\, and Eric Davidson on bass. \n\n\n\nYou’re gonna hear a whole lot of The Byrds…as well as some songs from other genres
URL:https://ironsmokedistillery.com/event/four-the-byrds-a-tribute-to-the-byrds-first-four-albums/
LOCATION:Iron Smoke Distillery\, 111 Parce Ave\, Fairport\, New York\, 14450\, United States
ATTACH;FMTTYPE=image/png:https://ironsmokedistillery.com/wp-content/uploads/2025/07/Screenshot-2025-07-08-at-1.09.58 PM.png
END:VEVENT
END:VCALENDAR