BEGIN:VCALENDAR
VERSION:2.0
PRODID:-//Iron Smoke Distillery - ECPv6.15.16.1//NONSGML v1.0//EN
CALSCALE:GREGORIAN
METHOD:PUBLISH
X-WR-CALNAME:Iron Smoke Distillery
X-ORIGINAL-URL:https://ironsmokedistillery.com
X-WR-CALDESC:Events for Iron Smoke Distillery
REFRESH-INTERVAL;VALUE=DURATION:PT1H
X-Robots-Tag:noindex
X-PUBLISHED-TTL:PT1H
BEGIN:VTIMEZONE
TZID:America/New_York
BEGIN:DAYLIGHT
TZOFFSETFROM:-0500
TZOFFSETTO:-0400
TZNAME:EDT
DTSTART:20240310T070000
END:DAYLIGHT
BEGIN:STANDARD
TZOFFSETFROM:-0400
TZOFFSETTO:-0500
TZNAME:EST
DTSTART:20241103T060000
END:STANDARD
BEGIN:DAYLIGHT
TZOFFSETFROM:-0500
TZOFFSETTO:-0400
TZNAME:EDT
DTSTART:20250309T070000
END:DAYLIGHT
BEGIN:STANDARD
TZOFFSETFROM:-0400
TZOFFSETTO:-0500
TZNAME:EST
DTSTART:20251102T060000
END:STANDARD
BEGIN:DAYLIGHT
TZOFFSETFROM:-0500
TZOFFSETTO:-0400
TZNAME:EDT
DTSTART:20260308T070000
END:DAYLIGHT
BEGIN:STANDARD
TZOFFSETFROM:-0400
TZOFFSETTO:-0500
TZNAME:EST
DTSTART:20261101T060000
END:STANDARD
END:VTIMEZONE
BEGIN:VEVENT
DTSTART;TZID=America/New_York:20250718T170000
DTEND;TZID=America/New_York:20250718T200000
DTSTAMP:20260421T093515
CREATED:20250630T151702Z
LAST-MODIFIED:20250708T173117Z
UID:10001499-1752858000-1752868800@ironsmokedistillery.com
SUMMARY:Acoustic Sunset Sessions: Davey Allen
DESCRIPTION:Today’s country hits\, 2000’s rock\, and 90’s hits!
URL:https://ironsmokedistillery.com/event/acoustic-sunset-session-davey-allen/
LOCATION:Iron Smoke Distillery\, 111 Parce Ave\, Fairport\, New York\, 14450\, United States
ATTACH;FMTTYPE=image/png:https://ironsmokedistillery.com/wp-content/uploads/2025/06/Screenshot-2025-06-30-at-11.14.53 AM.png
END:VEVENT
BEGIN:VEVENT
DTSTART;TZID=America/New_York:20250718T203000
DTEND;TZID=America/New_York:20250718T233000
DTSTAMP:20260421T093515
CREATED:20240424T174419Z
LAST-MODIFIED:20250627T174221Z
UID:10001240-1752870600-1752881400@ironsmokedistillery.com
SUMMARY:Karma
DESCRIPTION:Karma heads back to Iron Smoke Distillery!! TONS of new tunes!! Come out and rock with us!!
URL:https://ironsmokedistillery.com/event/karma-3/
LOCATION:New York
ATTACH;FMTTYPE=image/png:https://ironsmokedistillery.com/wp-content/uploads/2024/01/karma.png
END:VEVENT
END:VCALENDAR