BEGIN:VCALENDAR
VERSION:2.0
PRODID:-//Iron Smoke Distillery - ECPv6.15.16.1//NONSGML v1.0//EN
CALSCALE:GREGORIAN
METHOD:PUBLISH
X-WR-CALNAME:Iron Smoke Distillery
X-ORIGINAL-URL:https://ironsmokedistillery.com
X-WR-CALDESC:Events for Iron Smoke Distillery
REFRESH-INTERVAL;VALUE=DURATION:PT1H
X-Robots-Tag:noindex
X-PUBLISHED-TTL:PT1H
BEGIN:VTIMEZONE
TZID:America/New_York
BEGIN:DAYLIGHT
TZOFFSETFROM:-0500
TZOFFSETTO:-0400
TZNAME:EDT
DTSTART:20250309T070000
END:DAYLIGHT
BEGIN:STANDARD
TZOFFSETFROM:-0400
TZOFFSETTO:-0500
TZNAME:EST
DTSTART:20251102T060000
END:STANDARD
BEGIN:DAYLIGHT
TZOFFSETFROM:-0500
TZOFFSETTO:-0400
TZNAME:EDT
DTSTART:20260308T070000
END:DAYLIGHT
BEGIN:STANDARD
TZOFFSETFROM:-0400
TZOFFSETTO:-0500
TZNAME:EST
DTSTART:20261101T060000
END:STANDARD
BEGIN:DAYLIGHT
TZOFFSETFROM:-0500
TZOFFSETTO:-0400
TZNAME:EDT
DTSTART:20270314T070000
END:DAYLIGHT
BEGIN:STANDARD
TZOFFSETFROM:-0400
TZOFFSETTO:-0500
TZNAME:EST
DTSTART:20271107T060000
END:STANDARD
END:VTIMEZONE
BEGIN:VEVENT
DTSTART;TZID=America/New_York:20260420T183000
DTEND;TZID=America/New_York:20260420T213000
DTSTAMP:20260419T094047
CREATED:20240327T130403Z
LAST-MODIFIED:20260318T174523Z
UID:10001205-1776709800-1776720600@ironsmokedistillery.com
SUMMARY:Psychic Medium 'Jennie Marie' at Iron Smoke
DESCRIPTION:Rochester NY! The wait is soon over! Jennie Marie is returning to Iron Smoke Distillery! Monday\, April 20th. Friends come raise our glasses to spirits of all kinds. Let’s share in moments of connection and comfort in each other’s company. Here’s to a night of warmth\, laughter\, and the gentle embrace of the unseen. See you there!
URL:https://ironsmokedistillery.com/event/jennie-marie-mama-medium-at-iron-smoke/
LOCATION:Iron Smoke Distillery\, 111 Parce Ave\, Fairport\, New York\, 14450\, United States
ATTACH;FMTTYPE=image/png:https://ironsmokedistillery.com/wp-content/uploads/2025/05/Screenshot-2025-05-14-at-2.06.20 PM.png
END:VEVENT
BEGIN:VEVENT
DTSTART;TZID=America/New_York:20260421T183000
DTEND;TZID=America/New_York:20260421T213000
DTSTAMP:20260419T094047
CREATED:20240717T174851Z
LAST-MODIFIED:20260318T174052Z
UID:10001304-1776796200-1776807000@ironsmokedistillery.com
SUMMARY:Silver Arrow Band
DESCRIPTION:The Silver Arrow Band is a collective of wedding & event artists who create and capture memories. They are a premium\, customizable 3 to 14 piece band specializing in high-energy music – at a sensible price. They pride themselves on filling dance floors.
URL:https://ironsmokedistillery.com/event/silver-arrow-band/
LOCATION:Iron Smoke Distillery\, 111 Parce Ave\, Fairport\, New York\, 14450\, United States
ATTACH;FMTTYPE=image/png:https://ironsmokedistillery.com/wp-content/uploads/2024/07/Screenshot-2024-07-17-at-1.43.52 PM.png
END:VEVENT
BEGIN:VEVENT
DTSTART;TZID=America/New_York:20260422T190000
DTEND;TZID=America/New_York:20260422T210000
DTSTAMP:20260419T094047
CREATED:20260401T170249Z
LAST-MODIFIED:20260401T170250Z
UID:10001594-1776884400-1776891600@ironsmokedistillery.com
SUMMARY:Cupid's Boomerang
DESCRIPTION:Cupid’s Boomerang at Iron Smoke Distillery April 22nd 7:pm-9:pm
URL:https://ironsmokedistillery.com/event/cupids-boomerang/
LOCATION:Iron Smoke Distillery\, 111 Parce Ave\, Fairport\, New York\, 14450\, United States
ATTACH;FMTTYPE=image/png:https://ironsmokedistillery.com/wp-content/uploads/2026/04/Screenshot-2026-04-01-at-1.00.10-PM.png
END:VEVENT
BEGIN:VEVENT
DTSTART;TZID=America/New_York:20260423T170000
DTEND;TZID=America/New_York:20260423T220000
DTSTAMP:20260419T094047
CREATED:20250503T202904Z
LAST-MODIFIED:20260418T020234Z
UID:10001471-1776963600-1776981600@ironsmokedistillery.com
SUMMARY:Pass The Mic - Barstool Karaoke
DESCRIPTION:Ready to belt out your favorite tunes and sip on the best drinks in town?  Join us THIS THURSDAY at Iron Smoke Distillery for the ultimate Bar Stool Karaoke!Whether you’re a shower-singer or a stage-star\, it’s your time to shine on the mic!  Grab your crew\, take a seat\, and let the good times roll with amazing cocktails\, great vibes\, and even better tunes.Drinks. Music. Fun. All in one place. Don’t miss it! See you there!
URL:https://ironsmokedistillery.com/event/pass-the-mic-barstool-karaoke/
LOCATION:Iron Smoke Distillery\, 111 Parce Ave\, Fairport\, New York\, 14450\, United States
ATTACH;FMTTYPE=image/png:https://ironsmokedistillery.com/wp-content/uploads/2025/05/Screenshot-2025-05-14-at-4.00.33 PM.png
END:VEVENT
BEGIN:VEVENT
DTSTART;TZID=America/New_York:20260424T203000
DTEND;TZID=America/New_York:20260424T233000
DTSTAMP:20260419T094047
CREATED:20250529T153601Z
LAST-MODIFIED:20260401T171144Z
UID:10001486-1777062600-1777073400@ironsmokedistillery.com
SUMMARY:Fab Gear Bands
DESCRIPTION:Several Fab Gear bands are playing throughout the night on April 24th! Head over to Iron Smoke for some talented performances from 8:30pm-11:30pm \n\n\n\nNO COVER
URL:https://ironsmokedistillery.com/event/fab-gear-show-2/
LOCATION:Iron Smoke Distillery\, 111 Parce Ave\, Fairport\, New York\, 14450\, United States
ATTACH;FMTTYPE=image/png:https://ironsmokedistillery.com/wp-content/uploads/2022/06/fab-gear.png
END:VEVENT
BEGIN:VEVENT
DTSTART;TZID=America/New_York:20260425T203000
DTEND;TZID=America/New_York:20260425T233000
DTSTAMP:20260419T094047
CREATED:20260217T175833Z
LAST-MODIFIED:20260401T171045Z
UID:10001579-1777149000-1777159800@ironsmokedistillery.com
SUMMARY:M80's Live at Iron Smoke!
DESCRIPTION:The most electrifying 80s show returns to IRON SMOKE!
URL:https://ironsmokedistillery.com/event/m80s-kickstart-my-80s-heart/
LOCATION:Iron Smoke Distillery\, 111 Parce Ave\, Fairport\, New York\, 14450\, United States
ATTACH;FMTTYPE=image/png:https://ironsmokedistillery.com/wp-content/uploads/2026/02/Screenshot-2026-02-17-at-12.55.45-PM.png
END:VEVENT
BEGIN:VEVENT
DTSTART;TZID=America/New_York:20260426T170000
DTEND;TZID=America/New_York:20260426T190000
DTSTAMP:20260419T094047
CREATED:20260406T145504Z
LAST-MODIFIED:20260407T181905Z
UID:10001597-1777222800-1777230000@ironsmokedistillery.com
SUMMARY:Rattlesnake Revue Presents: Sunday\, Bum Day!
DESCRIPTION:Looking for something to do after church? Come to The Iron Smoke Distillery! enjoy a cocktail\, and behold some beautiful dancers. \n\n\n\nUpstate New York’s finest ecdysiasts will be taking the stage at 5pm. \n\n\n\nFeel free to come early\, and enjoy a cocktail featuring Iron Smoke’s award-winning bourbon\, do some shopping with our vendors\, and get a tarot reading from Madam Jojo. \n\n\n\n$10 general admission grants you access to the space. \n\n\n\n$35 VIP experience includes seating close to the stage\, a complimentary beverage\, and a sweet treat made by our favorite kitchen witch\, Miss Victoria Prudence. \n\n\n\nFeaturing performances by: \n\n\n\nSizzlin’ Liz \n\n\n\nJo Monroe \n\n\n\nAutumn Affair \n\n\n\nGinny Juniper \n\n\n\nLa Dame D’ Airelle \n\n\n\n& More! \n\n\n\nTickets go on sale March 1st:
URL:https://ironsmokedistillery.com/event/rattlesnake-revue-presents-sunday-bum-day/
LOCATION:Iron Smoke Distillery\, 111 Parce Ave\, Fairport\, New York\, 14450\, United States
ATTACH;FMTTYPE=image/png:https://ironsmokedistillery.com/wp-content/uploads/2026/04/Screenshot-2026-04-06-at-10.52.35-AM.png
END:VEVENT
BEGIN:VEVENT
DTSTART;TZID=America/New_York:20260427T180000
DTEND;TZID=America/New_York:20260427T223000
DTSTAMP:20260419T094047
CREATED:20260318T183725Z
LAST-MODIFIED:20260318T183728Z
UID:10001591-1777312800-1777329000@ironsmokedistillery.com
SUMMARY:Ace Frehley Kiss Tribute Concert
DESCRIPTION:
URL:https://ironsmokedistillery.com/event/ace-frehley-kiss-tribute-concert/
LOCATION:Iron Smoke Distillery\, 111 Parce Ave\, Fairport\, New York\, 14450\, United States
ATTACH;FMTTYPE=image/png:https://ironsmokedistillery.com/wp-content/uploads/2026/03/Screenshot-2026-03-18-at-2.35.42-PM-1.png
END:VEVENT
BEGIN:VEVENT
DTSTART;TZID=America/New_York:20260430T193000
DTEND;TZID=America/New_York:20260430T223000
DTSTAMP:20260419T094047
CREATED:20240711T181938Z
LAST-MODIFIED:20260418T230202Z
UID:10001299-1777577400-1777588200@ironsmokedistillery.com
SUMMARY:The Uptown Groove: Women Who Rock
DESCRIPTION:The Uptown Groove will be performing at Iron Smoke Distillery on Thursday\, April 30th. Stop down and see them from 7:30pm – 10:30pm
URL:https://ironsmokedistillery.com/event/the-uptown-groove/
LOCATION:Iron Smoke Distillery\, 111 Parce Ave\, Fairport\, New York\, 14450\, United States
ATTACH;FMTTYPE=image/png:https://ironsmokedistillery.com/wp-content/uploads/2024/07/Screenshot-2024-07-11-at-2.16.04 PM.png
END:VEVENT
BEGIN:VEVENT
DTSTART;TZID=America/New_York:20260501T203000
DTEND;TZID=America/New_York:20260501T233000
DTSTAMP:20260419T094047
CREATED:20250905T234629Z
LAST-MODIFIED:20260319T174410Z
UID:10001530-1777667400-1777678200@ironsmokedistillery.com
SUMMARY:BB DANG
DESCRIPTION:BB Dang is a high-energy cover band based in Rochester NY\, playing top hits around the region.
URL:https://ironsmokedistillery.com/event/bb-dang-3/
LOCATION:Iron Smoke Distillery\, 111 Parce Ave\, Fairport\, New York\, 14450\, United States
ATTACH;FMTTYPE=image/png:https://ironsmokedistillery.com/wp-content/uploads/2023/01/Screen-Shot-2023-09-06-at-12.59.47-PM.png
END:VEVENT
BEGIN:VEVENT
DTSTART;TZID=America/New_York:20260505T190000
DTEND;TZID=America/New_York:20260505T213000
DTSTAMP:20260419T094047
CREATED:20240430T163001Z
LAST-MODIFIED:20260319T175125Z
UID:10001258-1778007600-1778016600@ironsmokedistillery.com
SUMMARY:Monthly Smartphone Music Trivia
DESCRIPTION:Bring friends and create a team or bring yourself and be your own team!Compete using your smartphone and answer our handsome host\, Shaun Dulen\, for a great big a$$ prize bundle!
URL:https://ironsmokedistillery.com/event/monthly-smartttphone-music-trivia/
LOCATION:Iron Smoke Distillery\, 111 Parce Ave\, Fairport\, New York\, 14450\, United States
ATTACH;FMTTYPE=image/png:https://ironsmokedistillery.com/wp-content/uploads/2023/01/Screen-Shot-2023-04-26-at-9.50.10-PM.png
END:VEVENT
BEGIN:VEVENT
DTSTART;TZID=America/New_York:20260508T203000
DTEND;TZID=America/New_York:20260508T233000
DTSTAMP:20260419T094047
CREATED:20240222T190057Z
LAST-MODIFIED:20260319T175229Z
UID:10001159-1778272200-1778283000@ironsmokedistillery.com
SUMMARY:Appetite For Voltage
DESCRIPTION:Bringing you the best of GUNS N’ ROSES & AC/DC\, Appetite For Voltage is “Live ‘N’ Loud” at Iron Smoke Distillery on Saturday\, November 22nd! Known for their note-for-note renditions of GN’R & AC/DC’s iconic songs\, A4V prides themselves in delivering the music in the spirit of both of these legendary bands! Always a wild time at Iron Smoke… don’t miss it!!! \n\n\n\n*For more info:www.AppetiteForVoltage.com
URL:https://ironsmokedistillery.com/event/appetite-for-voltage-3/
LOCATION:Iron Smoke Distillery\, 111 Parce Ave\, Fairport\, New York\, 14450\, United States
ATTACH;FMTTYPE=image/png:https://ironsmokedistillery.com/wp-content/uploads/2019/07/appetite-for-voltage.png
END:VEVENT
BEGIN:VEVENT
DTSTART;TZID=America/New_York:20260509T203000
DTEND;TZID=America/New_York:20260509T233000
DTSTAMP:20260419T094047
CREATED:20241011T194328Z
LAST-MODIFIED:20260319T175315Z
UID:10001385-1778358600-1778369400@ironsmokedistillery.com
SUMMARY:Jumbo Shrimp
DESCRIPTION:Jumbo Shrimp… at the IRON SMOKE…hope to see YOU there. Door $10.
URL:https://ironsmokedistillery.com/event/jumbo-shrimp-2/
LOCATION:Iron Smoke Distillery\, 111 Parce Ave\, Fairport\, New York\, 14450\, United States
ATTACH;FMTTYPE=image/png:https://ironsmokedistillery.com/wp-content/uploads/2024/10/Screenshot-2024-10-11-at-2.21.51 PM.png
END:VEVENT
END:VCALENDAR