BEGIN:VCALENDAR
VERSION:2.0
PRODID:-//Iron Smoke Distillery - ECPv6.15.16.1//NONSGML v1.0//EN
CALSCALE:GREGORIAN
METHOD:PUBLISH
X-WR-CALNAME:Iron Smoke Distillery
X-ORIGINAL-URL:https://ironsmokedistillery.com
X-WR-CALDESC:Events for Iron Smoke Distillery
REFRESH-INTERVAL;VALUE=DURATION:PT1H
X-Robots-Tag:noindex
X-PUBLISHED-TTL:PT1H
BEGIN:VTIMEZONE
TZID:America/New_York
BEGIN:DAYLIGHT
TZOFFSETFROM:-0500
TZOFFSETTO:-0400
TZNAME:EDT
DTSTART:20210314T070000
END:DAYLIGHT
BEGIN:STANDARD
TZOFFSETFROM:-0400
TZOFFSETTO:-0500
TZNAME:EST
DTSTART:20211107T060000
END:STANDARD
BEGIN:DAYLIGHT
TZOFFSETFROM:-0500
TZOFFSETTO:-0400
TZNAME:EDT
DTSTART:20220313T070000
END:DAYLIGHT
BEGIN:STANDARD
TZOFFSETFROM:-0400
TZOFFSETTO:-0500
TZNAME:EST
DTSTART:20221106T060000
END:STANDARD
BEGIN:DAYLIGHT
TZOFFSETFROM:-0500
TZOFFSETTO:-0400
TZNAME:EDT
DTSTART:20230312T070000
END:DAYLIGHT
BEGIN:STANDARD
TZOFFSETFROM:-0400
TZOFFSETTO:-0500
TZNAME:EST
DTSTART:20231105T060000
END:STANDARD
END:VTIMEZONE
BEGIN:VEVENT
DTSTART;TZID=America/New_York:20220620T193000
DTEND;TZID=America/New_York:20220620T223000
DTSTAMP:20260425T071834
CREATED:20230119T051903Z
LAST-MODIFIED:20240109T232852Z
UID:10000744-1655753400-1655764200@ironsmokedistillery.com
SUMMARY:Violet Mary
DESCRIPTION:
URL:https://ironsmokedistillery.com/event/violet-mary-2/
LOCATION:111 Parce Ave\, Fairport\, NY\, 14450\, United States
ATTACH;FMTTYPE=image/png:https://ironsmokedistillery.com/wp-content/uploads/2024/01/violet-mary.png
END:VEVENT
BEGIN:VEVENT
DTSTART;TZID=America/New_York:20220622T193000
DTEND;TZID=America/New_York:20220622T223000
DTSTAMP:20260425T071834
CREATED:20220510T183323Z
LAST-MODIFIED:20220619T181933Z
UID:10000743-1655926200-1655937000@ironsmokedistillery.com
SUMMARY:Peg Leg IDA
DESCRIPTION:Peg Leg Ida is mixin it up again at Iron Smoke Distillery! Come for the bourbon\, stay for the beat!
URL:https://ironsmokedistillery.com/event/peg-leg-ida-3/
LOCATION:111 Parce Ave\, Fairport\, NY\, 14450\, United States
ATTACH;FMTTYPE=image/png:https://ironsmokedistillery.com/wp-content/uploads/2022/01/Screen-Shot-2022-01-04-at-4.57.29-PM.png
END:VEVENT
BEGIN:VEVENT
DTSTART;TZID=America/New_York:20220622T193000
DTEND;TZID=America/New_York:20220622T223000
DTSTAMP:20260425T071834
CREATED:20220510T223323Z
LAST-MODIFIED:20240109T232059Z
UID:10001070-1655926200-1655937000@ironsmokedistillery.com
SUMMARY:Peg Leg IDA
DESCRIPTION:Peg Leg Ida is mixin it up again at Iron Smoke Distillery! Come for the bourbon\, stay for the beat!
URL:https://ironsmokedistillery.com/event/peg-leg-ida-3-2/
LOCATION:111 Parce Ave\, Fairport\, NY\, 14450\, United States
ATTACH;FMTTYPE=image/png:https://ironsmokedistillery.com/wp-content/uploads/2024/01/Screen-Shot-2022-01-04-at-4.57.29-PM.png
END:VEVENT
BEGIN:VEVENT
DTSTART;TZID=America/New_York:20220624T203000
DTEND;TZID=America/New_York:20220624T233000
DTSTAMP:20260425T071834
CREATED:20220525T211755Z
LAST-MODIFIED:20240109T232105Z
UID:10000753-1656102600-1656113400@ironsmokedistillery.com
SUMMARY:Taran
DESCRIPTION:Get ready to rock out this weekend at Iron Smoke! Taran will be performing on June 24th from 8:30-11:30pm. We hope to see you there!
URL:https://ironsmokedistillery.com/event/taran/
LOCATION:111 Parce Ave\, Fairport\, NY\, 14450\, United States
ATTACH;FMTTYPE=image/png:https://ironsmokedistillery.com/wp-content/uploads/2024/01/taran.png
END:VEVENT
END:VCALENDAR