BEGIN:VCALENDAR
VERSION:2.0
PRODID:-//Iron Smoke Distillery - ECPv6.15.16.1//NONSGML v1.0//EN
CALSCALE:GREGORIAN
METHOD:PUBLISH
X-ORIGINAL-URL:https://ironsmokedistillery.com
X-WR-CALDESC:Events for Iron Smoke Distillery
REFRESH-INTERVAL;VALUE=DURATION:PT1H
X-Robots-Tag:noindex
X-PUBLISHED-TTL:PT1H
BEGIN:VTIMEZONE
TZID:America/New_York
BEGIN:DAYLIGHT
TZOFFSETFROM:-0500
TZOFFSETTO:-0400
TZNAME:EDT
DTSTART:20210314T070000
END:DAYLIGHT
BEGIN:STANDARD
TZOFFSETFROM:-0400
TZOFFSETTO:-0500
TZNAME:EST
DTSTART:20211107T060000
END:STANDARD
BEGIN:DAYLIGHT
TZOFFSETFROM:-0500
TZOFFSETTO:-0400
TZNAME:EDT
DTSTART:20220313T070000
END:DAYLIGHT
BEGIN:STANDARD
TZOFFSETFROM:-0400
TZOFFSETTO:-0500
TZNAME:EST
DTSTART:20221106T060000
END:STANDARD
BEGIN:DAYLIGHT
TZOFFSETFROM:-0500
TZOFFSETTO:-0400
TZNAME:EDT
DTSTART:20230312T070000
END:DAYLIGHT
BEGIN:STANDARD
TZOFFSETFROM:-0400
TZOFFSETTO:-0500
TZNAME:EST
DTSTART:20231105T060000
END:STANDARD
END:VTIMEZONE
BEGIN:VEVENT
DTSTART;TZID=America/New_York:20220714T190000
DTEND;TZID=America/New_York:20220714T223000
DTSTAMP:20260423T085351
CREATED:20220526T194656Z
LAST-MODIFIED:20240109T232110Z
UID:10000762-1657825200-1657837800@ironsmokedistillery.com
SUMMARY:Violet Mary wsg Moving Mountains
DESCRIPTION:Violet Mary & Moving Mountains will be playing live at Iron Smoke Distillery on Thursday\, July 14th\, 2022!
URL:https://ironsmokedistillery.com/event/violet-mary/
LOCATION:111 Parce Ave\, Fairport\, NY\, 14450\, United States
ATTACH;FMTTYPE=image/png:https://ironsmokedistillery.com/wp-content/uploads/2024/01/Screen-Shot-2022-07-11-at-12.59.03-PM.png
END:VEVENT
BEGIN:VEVENT
DTSTART;TZID=America/New_York:20220715T203000
DTEND;TZID=America/New_York:20220715T233000
DTSTAMP:20260423T085351
CREATED:20220309T010824Z
LAST-MODIFIED:20240109T231948Z
UID:10000601-1657917000-1657927800@ironsmokedistillery.com
SUMMARY:Root Beer Beaver
DESCRIPTION:Root Beer Beaver will be performing live at Iron Smoke Distillery on Saturday\, September 23rd from 8:30-11:30pm!
URL:https://ironsmokedistillery.com/event/root-beer-beaver-2/
LOCATION:111 Parce Ave\, Fairport\, NY\, 14450\, United States
ATTACH;FMTTYPE=image/png:https://ironsmokedistillery.com/wp-content/uploads/2024/01/Screen-Shot-2021-06-30-at-11.52.37-PM.png
END:VEVENT
BEGIN:VEVENT
DTSTART;TZID=America/New_York:20220716T203000
DTEND;TZID=America/New_York:20220716T233000
DTSTAMP:20260423T085351
CREATED:20220712T013249Z
LAST-MODIFIED:20240109T232151Z
UID:10000770-1658003400-1658014200@ironsmokedistillery.com
SUMMARY:Steel Rail Revival Kick Off Party
DESCRIPTION:Head into Iron Smoke Distillery and experience a great night during the Steel Rail Revival Kick Off Party! This will take place Saturday July 16th from 8:30 – 11:30. $5 cover at the door.
URL:https://ironsmokedistillery.com/event/steel-rail-revival-kick-off-party/
LOCATION:111 Parce Ave\, Fairport\, NY\, 14450\, United States
ATTACH;FMTTYPE=image/png:https://ironsmokedistillery.com/wp-content/uploads/2024/01/steelrailrevival.png
END:VEVENT
END:VCALENDAR