BEGIN:VCALENDAR
VERSION:2.0
PRODID:-//Iron Smoke Distillery - ECPv6.15.16.1//NONSGML v1.0//EN
CALSCALE:GREGORIAN
METHOD:PUBLISH
X-ORIGINAL-URL:https://ironsmokedistillery.com
X-WR-CALDESC:Events for Iron Smoke Distillery
REFRESH-INTERVAL;VALUE=DURATION:PT1H
X-Robots-Tag:noindex
X-PUBLISHED-TTL:PT1H
BEGIN:VTIMEZONE
TZID:America/New_York
BEGIN:DAYLIGHT
TZOFFSETFROM:-0500
TZOFFSETTO:-0400
TZNAME:EDT
DTSTART:20240310T070000
END:DAYLIGHT
BEGIN:STANDARD
TZOFFSETFROM:-0400
TZOFFSETTO:-0500
TZNAME:EST
DTSTART:20241103T060000
END:STANDARD
BEGIN:DAYLIGHT
TZOFFSETFROM:-0500
TZOFFSETTO:-0400
TZNAME:EDT
DTSTART:20250309T070000
END:DAYLIGHT
BEGIN:STANDARD
TZOFFSETFROM:-0400
TZOFFSETTO:-0500
TZNAME:EST
DTSTART:20251102T060000
END:STANDARD
BEGIN:DAYLIGHT
TZOFFSETFROM:-0500
TZOFFSETTO:-0400
TZNAME:EDT
DTSTART:20260308T070000
END:DAYLIGHT
BEGIN:STANDARD
TZOFFSETFROM:-0400
TZOFFSETTO:-0500
TZNAME:EST
DTSTART:20261101T060000
END:STANDARD
END:VTIMEZONE
BEGIN:VEVENT
DTSTART;TZID=America/New_York:20250321T153000
DTEND;TZID=America/New_York:20250321T183000
DTSTAMP:20260421T095109
CREATED:20240717T181712Z
LAST-MODIFIED:20250516T204104Z
UID:10001306-1742571000-1742581800@ironsmokedistillery.com
SUMMARY:Acoustic Session: Ethos
DESCRIPTION:Ethos will be on the acoustic side of the tasting room on May 17thHope to see you there!
URL:https://ironsmokedistillery.com/event/acoustic-session-ethos/
LOCATION:Iron Smoke Distillery\, 111 Parce Ave\, Fairport\, New York\, 14450\, United States
ATTACH;FMTTYPE=image/png:https://ironsmokedistillery.com/wp-content/uploads/2024/03/Screenshot-2024-03-19-at-2.00.59 PM.png
END:VEVENT
BEGIN:VEVENT
DTSTART;TZID=America/New_York:20250321T170000
DTEND;TZID=America/New_York:20250321T200000
DTSTAMP:20260421T095109
CREATED:20250311T171015Z
LAST-MODIFIED:20250311T171017Z
UID:10001455-1742576400-1742587200@ironsmokedistillery.com
SUMMARY:ACOUSTIC SUNSET SESSION: MARTY ROBERTS
DESCRIPTION:Come spend your Friday evening with Marty Roberts for an acoustic sunset session!
URL:https://ironsmokedistillery.com/event/acoustic-sunset-session-marty-roberts/
LOCATION:Iron Smoke Distillery\, 111 Parce Ave\, Fairport\, New York\, 14450\, United States
ATTACH;FMTTYPE=image/png:https://ironsmokedistillery.com/wp-content/uploads/2025/03/Screenshot-2025-02-28-at-4.22.30 PM.png
END:VEVENT
END:VCALENDAR