BEGIN:VCALENDAR
VERSION:2.0
PRODID:-//Iron Smoke Distillery - ECPv6.15.16.1//NONSGML v1.0//EN
CALSCALE:GREGORIAN
METHOD:PUBLISH
X-WR-CALNAME:Iron Smoke Distillery
X-ORIGINAL-URL:https://ironsmokedistillery.com
X-WR-CALDESC:Events for Iron Smoke Distillery
REFRESH-INTERVAL;VALUE=DURATION:PT1H
X-Robots-Tag:noindex
X-PUBLISHED-TTL:PT1H
BEGIN:VTIMEZONE
TZID:America/New_York
BEGIN:DAYLIGHT
TZOFFSETFROM:-0500
TZOFFSETTO:-0400
TZNAME:EDT
DTSTART:20240310T070000
END:DAYLIGHT
BEGIN:STANDARD
TZOFFSETFROM:-0400
TZOFFSETTO:-0500
TZNAME:EST
DTSTART:20241103T060000
END:STANDARD
BEGIN:DAYLIGHT
TZOFFSETFROM:-0500
TZOFFSETTO:-0400
TZNAME:EDT
DTSTART:20250309T070000
END:DAYLIGHT
BEGIN:STANDARD
TZOFFSETFROM:-0400
TZOFFSETTO:-0500
TZNAME:EST
DTSTART:20251102T060000
END:STANDARD
BEGIN:DAYLIGHT
TZOFFSETFROM:-0500
TZOFFSETTO:-0400
TZNAME:EDT
DTSTART:20260308T070000
END:DAYLIGHT
BEGIN:STANDARD
TZOFFSETFROM:-0400
TZOFFSETTO:-0500
TZNAME:EST
DTSTART:20261101T060000
END:STANDARD
END:VTIMEZONE
BEGIN:VEVENT
DTSTART;TZID=America/New_York:20250430T193000
DTEND;TZID=America/New_York:20250430T223000
DTSTAMP:20260421T125404
CREATED:20250401T162502Z
LAST-MODIFIED:20250401T162503Z
UID:10001460-1746041400-1746052200@ironsmokedistillery.com
SUMMARY:Freight
DESCRIPTION:Freight is a 3 piece\, original Alt Country / Rural Rock / Americana band based out of Ithaca\, NY. The band is comprised of veteran musicians who individually have shared stages with the likes of Eileen Jewell\, John Prine\, The Mavericks\, Leon Russell\, James McMurtry and many other roots music heavyweights. Founded by midwest transplant JP Payton in early 2020\, Freight has risen to the fore of the region’s growing Americana landscape. Drawing comparisons to the art rock of Wilco\, the psychedelia of The Grateful Dead and the songcraft of Jason Isbell\, Freight is both traditionally familiar and sonically adventurous. Freight’s debut album\, Hard Worker\, released in October 2022 on Switchyard Records\, has been met with critical acclaim. \n\n\n\n“This is a recording of skilled musicians and friends enjoying what they do. In so many ways it is like a debut album\, but by grown-ups\, and it sounds like they had such fun bringing it to life together.” – Americana UK \n\n\n\n“The debut album\, Hard Worker\, sometimes reminds us of the long-awaited Jason Molina’s way of making songs. Although with a greater optimism in the lyrics\, Payton’s voice is close to the emotional tone of the late singer.” – Dirty Rock Magazine \n\n\n\n“Hard Worker’s 10 songs traverse a wide musical terrain\, blending country\, funk\, rock and psychedelic influences with traces of Wilco\, The Grateful Dead\, John Prine\, Dave Alvin and other roots-music staples – all woven together to a blue collar backdrop for Payton’s warm baritone vocals and deeply personal lyrics.” – Jim Catalano WXXI \n\n\n\nPayton’s plaintively poetic and confessional songwriting belies a nuanced and empathetic understanding of the human condition. Drummer and Knoxville native Bowman Townsend (Black Lillies) has toured nationally showcasing his pocket centric groove\, and veteran bassist Mike Brando (Janet Batch) rounds out the rhythm section with a commanding sense of tone earned from decades of professional gigging. All told\, Freight’s groove is seasoned\, road-tested\, and danceable fun. Recent highlights include several successful regional tours and appearances at main stage Ithaca Fest 2023\, City Winery Pittsburgh and the famed Purple Fiddle in Thomas\, West Virginia. \n\n\n\nWith a new album titled Old Bones due in the coming year\, Freight is on a steep upward trajectory in the region and beyond. Featuring 11 new original songs\, recorded at Sunwood Studios in Trumansburg\, NY by Jaime Gartelos\, Freight is well positioned to expand their exposure in 2025.
URL:https://ironsmokedistillery.com/event/freight/
LOCATION:Iron Smoke Distillery\, 111 Parce Ave\, Fairport\, New York\, 14450\, United States
ATTACH;FMTTYPE=image/png:https://ironsmokedistillery.com/wp-content/uploads/2025/04/Screenshot-2025-04-01-at-12.22.35 PM.png
END:VEVENT
BEGIN:VEVENT
DTSTART;TZID=America/New_York:20250501T193000
DTEND;TZID=America/New_York:20250501T223000
DTSTAMP:20260421T125404
CREATED:20250312T191515Z
LAST-MODIFIED:20250424T184355Z
UID:10001456-1746127800-1746138600@ironsmokedistillery.com
SUMMARY:The Fox Sisters & Harmonica Lewinski
DESCRIPTION:The Fox Sisters & Harmonica Lewinski will be joining forces to bring you an evening of original rock’n’roll music you can dance to. Iron Smoke / Fairport. Doors 7. Music 7:30. $5 cover. 21+
URL:https://ironsmokedistillery.com/event/the-fox-sisters-harmonica-lewinski/
LOCATION:Iron Smoke Distillery\, 111 Parce Ave\, Fairport\, New York\, 14450\, United States
ATTACH;FMTTYPE=image/png:https://ironsmokedistillery.com/wp-content/uploads/2025/03/Screenshot-2025-03-12-at-3.14.01 PM.png
END:VEVENT
BEGIN:VEVENT
DTSTART;TZID=America/New_York:20250503T210000
DTEND;TZID=America/New_York:20250503T230000
DTSTAMP:20260421T125404
CREATED:20250409T190615Z
LAST-MODIFIED:20250409T195328Z
UID:10001468-1746306000-1746313200@ironsmokedistillery.com
SUMMARY:Off of the Screen and onto the Stage
DESCRIPTION:Come see your favorite TV characters show off their naughty side! \n\n\n\nThis show will feature burlesque performances by some of Upstate New York’s finest ecdysiasts\, goods from local vendors\, and tarot readings from Lion of Wands. \n\n\n\nDoors open at 8pm. Show starts at 9pm. You must be 21 to join the fun! \n\n\n\n$30 VIP tickets are on sale via Ticket Leap at this link: https://rattlesnakerevue.ticketleap.com/off-of-the-screen–onto-the-stage/?fbclid=IwY2xjawJjophleHRuA2FlbQIxMAABHibagKhkNtsUQh55smukM8VQbph2MEaKrui3EgbomwqNbUwN3Ur_KkWZ_hN8_aem_sR60fUXz1jqk4m8q_dhBLg
URL:https://ironsmokedistillery.com/event/off-of-the-screen-and-onto-the-stage/
LOCATION:Iron Smoke Distillery\, 111 Parce Ave\, Fairport\, New York\, 14450\, United States
ATTACH;FMTTYPE=image/png:https://ironsmokedistillery.com/wp-content/uploads/2025/04/Screenshot-2025-04-09-at-3.05.17 PM.png
END:VEVENT
END:VCALENDAR