BEGIN:VCALENDAR
VERSION:2.0
PRODID:-//Iron Smoke Distillery - ECPv6.15.16.1//NONSGML v1.0//EN
CALSCALE:GREGORIAN
METHOD:PUBLISH
X-WR-CALNAME:Iron Smoke Distillery
X-ORIGINAL-URL:https://ironsmokedistillery.com
X-WR-CALDESC:Events for Iron Smoke Distillery
REFRESH-INTERVAL;VALUE=DURATION:PT1H
X-Robots-Tag:noindex
X-PUBLISHED-TTL:PT1H
BEGIN:VTIMEZONE
TZID:America/New_York
BEGIN:DAYLIGHT
TZOFFSETFROM:-0500
TZOFFSETTO:-0400
TZNAME:EDT
DTSTART:20240310T070000
END:DAYLIGHT
BEGIN:STANDARD
TZOFFSETFROM:-0400
TZOFFSETTO:-0500
TZNAME:EST
DTSTART:20241103T060000
END:STANDARD
BEGIN:DAYLIGHT
TZOFFSETFROM:-0500
TZOFFSETTO:-0400
TZNAME:EDT
DTSTART:20250309T070000
END:DAYLIGHT
BEGIN:STANDARD
TZOFFSETFROM:-0400
TZOFFSETTO:-0500
TZNAME:EST
DTSTART:20251102T060000
END:STANDARD
BEGIN:DAYLIGHT
TZOFFSETFROM:-0500
TZOFFSETTO:-0400
TZNAME:EDT
DTSTART:20260308T070000
END:DAYLIGHT
BEGIN:STANDARD
TZOFFSETFROM:-0400
TZOFFSETTO:-0500
TZNAME:EST
DTSTART:20261101T060000
END:STANDARD
END:VTIMEZONE
BEGIN:VEVENT
DTSTART;TZID=America/New_York:20250508T193000
DTEND;TZID=America/New_York:20250508T223000
DTSTAMP:20260421T202734
CREATED:20250401T164025Z
LAST-MODIFIED:20250401T164027Z
UID:10001461-1746732600-1746743400@ironsmokedistillery.com
SUMMARY:P.V. Nunez Band
DESCRIPTION:The P. V. Nunes Band is just different. “Think Harry Chapin meets the Grateful Dead” said one club owner. The songs (written by Paul Vincent Nunes) are smart\, funny\, passionate\, personal… and way too true. They are driven by a jamming North Coast Americana groove of dobro and electric guitar (Bernie Heveron)\, acoustic guitar (Paul)\, washboard (Dave Paprocki) and bass (Greg Franklin). \n\n\n\nBand members have an esoteric history of playing in (or with) The Color Blind James Experience\, Bat McGrath (Bernie)\, The Chesterfield Kings\, The Occasional Saints (Paul)\, Chanka-Chank\, The Crawdiddies (Dave)\, Marjorie Thompson\, and The Dave North Trio (Greg). \n\n\n\nFan favorites include\, “New Guitar”\, “Drive All Night”\, “My Daughter’s Diary”\, “I’m Gonna Walk”\, “The Diner”\, “Mama Loves the Reverb”\, and “Some of Us Rise\, But We Don’t Shine”.
URL:https://ironsmokedistillery.com/event/p-v-nunez-band/
LOCATION:Iron Smoke Distillery\, 111 Parce Ave\, Fairport\, New York\, 14450\, United States
ATTACH;FMTTYPE=image/png:https://ironsmokedistillery.com/wp-content/uploads/2025/04/Screenshot-2025-04-01-at-12.32.29 PM.png
END:VEVENT
BEGIN:VEVENT
DTSTART;TZID=America/New_York:20250509T170000
DTEND;TZID=America/New_York:20250509T200000
DTSTAMP:20260421T202734
CREATED:20240424T173408Z
LAST-MODIFIED:20250312T200238Z
UID:10001239-1746810000-1746820800@ironsmokedistillery.com
SUMMARY:Acoustic Sunset Sessions: Son Henry
DESCRIPTION:Join Son Henry for a special Sunset Session at Iron Smoke Distillery on Friday\, May 9th from 5-8 PM! \n\n\n\nCome unwind and enjoy an intimate performance by this 2-time British Blues Award winner as he takes the stage with original songs from his latest album\, Ballad Hunter\, along with soulful blues\, folk\, and indie tunes that will make the perfect soundtrack for your evening. \n\n\n\nAbout Son Henry:A masterful storyteller with a knack for blending rich acoustic folk and blues influences\, Son Henry’s music connects on a deep emotional level. His songs from Ballad Hunter have been praised for their heartfelt lyrics and captivating melodies—making this a must-see event for music lovers! \n\n\n\nIron Smoke Distillery offers the perfect spot for a cozy\, laid-back evening. Known for its exceptional spirits and unique atmosphere\, it’s the ideal place to sip on a craft cocktail while enjoying live music in a beautiful setting. \n\n\n\nGrab your friends\, kick back with a drink\, and enjoy a sunset filled with great music and good vibes. See you there!
URL:https://ironsmokedistillery.com/event/acoustic-sunset-session-son-henry-trio/
LOCATION:Iron Smoke Distillery\, 111 Parce Ave\, Fairport\, New York\, 14450\, United States
ATTACH;FMTTYPE=image/png:https://ironsmokedistillery.com/wp-content/uploads/2024/04/Screenshot-2025-01-10-at-1.02.43 PM.png
END:VEVENT
BEGIN:VEVENT
DTSTART;TZID=America/New_York:20250509T203000
DTEND;TZID=America/New_York:20250509T233000
DTSTAMP:20260421T202734
CREATED:20240529T191136Z
LAST-MODIFIED:20250424T184749Z
UID:10001290-1746822600-1746833400@ironsmokedistillery.com
SUMMARY:The Remakes
DESCRIPTION:The Remakes Rock N Roll Show returns to Iron Smoke Friday May 9th.
URL:https://ironsmokedistillery.com/event/the-remakes-5/
LOCATION:Iron Smoke Distillery\, 111 Parce Ave\, Fairport\, New York\, 14450\, United States
ATTACH;FMTTYPE=image/png:https://ironsmokedistillery.com/wp-content/uploads/2024/01/the-remakes.png
END:VEVENT
BEGIN:VEVENT
DTSTART;TZID=America/New_York:20250510T203000
DTEND;TZID=America/New_York:20250510T233000
DTSTAMP:20260421T202734
CREATED:20250401T170457Z
LAST-MODIFIED:20250401T170500Z
UID:10001462-1746909000-1746919800@ironsmokedistillery.com
SUMMARY:The Cool Club and The Lipker Sisters party!
DESCRIPTION:The Cool Club and the Lipker Sisters biggest Party yet!!
URL:https://ironsmokedistillery.com/event/the-cool-club-and-the-lipker-sisters-party/
LOCATION:Iron Smoke Distillery\, 111 Parce Ave\, Fairport\, New York\, 14450\, United States
ATTACH;FMTTYPE=image/png:https://ironsmokedistillery.com/wp-content/uploads/2024/01/coolclublipkersisters.png
END:VEVENT
BEGIN:VEVENT
DTSTART;TZID=America/New_York:20250511T140000
DTEND;TZID=America/New_York:20250511T183000
DTSTAMP:20260421T202734
CREATED:20250401T170805Z
LAST-MODIFIED:20250401T170806Z
UID:10001463-1746972000-1746988200@ironsmokedistillery.com
SUMMARY:Mother's Day Psychic Fair
DESCRIPTION:Forget the flowers—this Mother’s Day calls for something way more legendary  \n\n\n\nThe 3rd Annual Mother’s Day Psychic Fair is happening at Iron Smoke Distillery on Sunday\, May 11th\, from 2:00-6:30 p.m. (Free entry). \n\n\n\nSwap the usual brunch for MOMosas—each zodiac sign gets its own flavor—while Nightfall Duo sets the vibe with live music. Shop a killer lineup of metaphysical artisans featuring crystals\, candles\, pyrography\, sweets & spices\, jewelry\, a spell jar bar\, and Freddie’s Wood-Fired Pizza will be parked right outside. \n\n\n\nAnd if you really want to impress her? Get her a tarot reading with one of our five expert readers. \n\n\n\nNo clichés\, no fluff—just a badass day celebrating the magic of motherhood. Keep an eye out for artisan spotlights and more details soon!
URL:https://ironsmokedistillery.com/event/mothers-day-psychic-fair-2/
LOCATION:Iron Smoke Distillery\, 111 Parce Ave\, Fairport\, New York\, 14450\, United States
ATTACH;FMTTYPE=image/png:https://ironsmokedistillery.com/wp-content/uploads/2025/04/Screenshot-2025-04-01-at-1.07.09 PM.png
END:VEVENT
END:VCALENDAR