BEGIN:VCALENDAR
VERSION:2.0
PRODID:-//Iron Smoke Distillery - ECPv6.15.16.1//NONSGML v1.0//EN
CALSCALE:GREGORIAN
METHOD:PUBLISH
X-ORIGINAL-URL:https://ironsmokedistillery.com
X-WR-CALDESC:Events for Iron Smoke Distillery
REFRESH-INTERVAL;VALUE=DURATION:PT1H
X-Robots-Tag:noindex
X-PUBLISHED-TTL:PT1H
BEGIN:VTIMEZONE
TZID:America/New_York
BEGIN:DAYLIGHT
TZOFFSETFROM:-0500
TZOFFSETTO:-0400
TZNAME:EDT
DTSTART:20240310T070000
END:DAYLIGHT
BEGIN:STANDARD
TZOFFSETFROM:-0400
TZOFFSETTO:-0500
TZNAME:EST
DTSTART:20241103T060000
END:STANDARD
BEGIN:DAYLIGHT
TZOFFSETFROM:-0500
TZOFFSETTO:-0400
TZNAME:EDT
DTSTART:20250309T070000
END:DAYLIGHT
BEGIN:STANDARD
TZOFFSETFROM:-0400
TZOFFSETTO:-0500
TZNAME:EST
DTSTART:20251102T060000
END:STANDARD
BEGIN:DAYLIGHT
TZOFFSETFROM:-0500
TZOFFSETTO:-0400
TZNAME:EDT
DTSTART:20260308T070000
END:DAYLIGHT
BEGIN:STANDARD
TZOFFSETFROM:-0400
TZOFFSETTO:-0500
TZNAME:EST
DTSTART:20261101T060000
END:STANDARD
END:VTIMEZONE
BEGIN:VEVENT
DTSTART;TZID=America/New_York:20250514T193000
DTEND;TZID=America/New_York:20250514T223000
DTSTAMP:20260421T143819
CREATED:20250401T172309Z
LAST-MODIFIED:20250401T172310Z
UID:10001465-1747251000-1747261800@ironsmokedistillery.com
SUMMARY:Gensee Rising
DESCRIPTION:Head out to Iron Smoke and listen to Genesee Rising! Enjoy some hot tunes and great libations. Whiskey Up!
URL:https://ironsmokedistillery.com/event/gensee-rising/
LOCATION:Iron Smoke Distillery\, 111 Parce Ave\, Fairport\, New York\, 14450\, United States
ATTACH;FMTTYPE=image/png:https://ironsmokedistillery.com/wp-content/uploads/2025/04/Screenshot-2025-04-01-at-1.15.36 PM.png
END:VEVENT
BEGIN:VEVENT
DTSTART;TZID=America/New_York:20250516T153000
DTEND;TZID=America/New_York:20250516T183000
DTSTAMP:20260421T143819
CREATED:20250627T174733Z
LAST-MODIFIED:20250721T171709Z
UID:10001497-1747409400-1747420200@ironsmokedistillery.com
SUMMARY:Acoustic Session: The Transport
DESCRIPTION:The Transport is playing an acoustic set at Iron Smoke Distillery! Come hang\, grab a drink\, and catch some live tunes!
URL:https://ironsmokedistillery.com/event/acoustic-sunset-session-brendan-ayers/
LOCATION:Iron Smoke Distillery\, 111 Parce Ave\, Fairport\, New York\, 14450\, United States
ATTACH;FMTTYPE=image/png:https://ironsmokedistillery.com/wp-content/uploads/2024/01/transport.png
END:VEVENT
BEGIN:VEVENT
DTSTART;TZID=America/New_York:20250517T153000
DTEND;TZID=America/New_York:20250517T183000
DTSTAMP:20260421T143819
CREATED:20250517T015835Z
LAST-MODIFIED:20250517T015847Z
UID:10001482-1747495800-1747506600@ironsmokedistillery.com
SUMMARY:Acoustic Session: Jeff Cosco
DESCRIPTION:3 hours of live music with our friend Jeff Cosco!
URL:https://ironsmokedistillery.com/event/acoustic-session-jeff-cosco/
LOCATION:Iron Smoke Distillery\, 111 Parce Ave\, Fairport\, New York\, 14450\, United States
ATTACH;FMTTYPE=image/png:https://ironsmokedistillery.com/wp-content/uploads/2025/05/Screenshot-2025-05-16-at-9.55.34 PM.png
END:VEVENT
BEGIN:VEVENT
DTSTART;TZID=America/New_York:20250517T190000
DTEND;TZID=America/New_York:20250517T233000
DTSTAMP:20260421T143819
CREATED:20250513T204728Z
LAST-MODIFIED:20250513T204729Z
UID:10001475-1747508400-1747524600@ironsmokedistillery.com
SUMMARY:Connors and Ferris Fundraiser
DESCRIPTION:Date: Saturday\, May 17th\, 2025Time: Doors at 7:00PM\, Tryst plays ~8:30 – 11:30PMLocation: Iron Smoke Distillery\, 111 Parcel Ave #5b\, Fairport\, NYTickets: $10 cover donation at the door upon entry to benefit EquiCenter \n\n\n\nJoin us at the iconic Iron Smoke Distillery in Fairport\, NY for an evening of music\, community\, and support at the ” Live Every Day Like It’s Your Birthday” charity concert sponsored by Connors & Ferris. This special event will feature the dynamic local band Tryst\, sponsored by Lake Beverage and the Bud Light Corporation\, known for their engaging performances and captivating musical blends. \n\n\n\nIn addition to fantastic music\, guests will enjoy a selection of craft cocktails available for purchase from Iron Smoke Distillery’s bar. \n\n\n\nPurchase the specialty cocktail and keep the exclusive rocks glass featuring Iron Smoke\, EquiCenter and Connors & Ferris. Proceeds from this drink will be donated to EquiCenter! \n\n\n\nThis event isn’t just a concert; it’s an opportunity to make a positive impact on the lives of many. Whether you’re a fan of great music\, fine spirits\, or supporting a worthy cause\, your participation will contribute to a brighter future for those assisted by EquiCenter! \n\n\n\nFor more information\, volunteer opportunities with EquiCenter\, or to make a direct donation\, please visit their website at https://www.equicenterny.org/ \n\n\n\nFollow us on Instagram @Connorsandferris for updates. We look forward to celebrating this memorable night with you!
URL:https://ironsmokedistillery.com/event/connors-and-ferris-fundraiser/
LOCATION:Iron Smoke Distillery\, 111 Parce Ave\, Fairport\, New York\, 14450\, United States
ATTACH;FMTTYPE=image/png:https://ironsmokedistillery.com/wp-content/uploads/2025/05/Screenshot-2025-05-13-at-4.42.52 PM.png
END:VEVENT
END:VCALENDAR