BEGIN:VCALENDAR
VERSION:2.0
PRODID:-//Iron Smoke Distillery - ECPv6.15.16.1//NONSGML v1.0//EN
CALSCALE:GREGORIAN
METHOD:PUBLISH
X-ORIGINAL-URL:https://ironsmokedistillery.com
X-WR-CALDESC:Events for Iron Smoke Distillery
REFRESH-INTERVAL;VALUE=DURATION:PT1H
X-Robots-Tag:noindex
X-PUBLISHED-TTL:PT1H
BEGIN:VTIMEZONE
TZID:America/New_York
BEGIN:DAYLIGHT
TZOFFSETFROM:-0500
TZOFFSETTO:-0400
TZNAME:EDT
DTSTART:20250309T070000
END:DAYLIGHT
BEGIN:STANDARD
TZOFFSETFROM:-0400
TZOFFSETTO:-0500
TZNAME:EST
DTSTART:20251102T060000
END:STANDARD
BEGIN:DAYLIGHT
TZOFFSETFROM:-0500
TZOFFSETTO:-0400
TZNAME:EDT
DTSTART:20260308T070000
END:DAYLIGHT
BEGIN:STANDARD
TZOFFSETFROM:-0400
TZOFFSETTO:-0500
TZNAME:EST
DTSTART:20261101T060000
END:STANDARD
BEGIN:DAYLIGHT
TZOFFSETFROM:-0500
TZOFFSETTO:-0400
TZNAME:EDT
DTSTART:20270314T070000
END:DAYLIGHT
BEGIN:STANDARD
TZOFFSETFROM:-0400
TZOFFSETTO:-0500
TZNAME:EST
DTSTART:20271107T060000
END:STANDARD
END:VTIMEZONE
BEGIN:VEVENT
DTSTART;TZID=America/New_York:20260113T191500
DTEND;TZID=America/New_York:20260113T214500
DTSTAMP:20260424T065227
CREATED:20251230T183908Z
LAST-MODIFIED:20260112T175302Z
UID:10001567-1768331700-1768340700@ironsmokedistillery.com
SUMMARY:Acoustic Session: Claudia and Ryan Hurley
DESCRIPTION:
URL:https://ironsmokedistillery.com/event/acoustic-session-claudia-and-ryan/
LOCATION:Iron Smoke Distillery\, 111 Parce Ave\, Fairport\, New York\, 14450\, United States
ATTACH;FMTTYPE=image/png:https://ironsmokedistillery.com/wp-content/uploads/2025/12/Screenshot-2025-12-30-at-1.36.01-PM.png
END:VEVENT
BEGIN:VEVENT
DTSTART;TZID=America/New_York:20260116T203000
DTEND;TZID=America/New_York:20260116T233000
DTSTAMP:20260424T065227
CREATED:20241010T174434Z
LAST-MODIFIED:20251230T182335Z
UID:10001356-1768595400-1768606200@ironsmokedistillery.com
SUMMARY:Hello City - Barenaked Ladies Tribute with Ben Folds Tribute Opener
DESCRIPTION:HELLO CITY is the Northeast’s premier live tribute to Barenaked Ladies. The band is comprised of members of some of Western New York’s top original and cover bands.
URL:https://ironsmokedistillery.com/event/hello-city-barenaked-ladies-tribute-2/
LOCATION:Iron Smoke Distillery\, 111 Parce Ave\, Fairport\, New York\, 14450\, United States
ATTACH;FMTTYPE=image/png:https://ironsmokedistillery.com/wp-content/uploads/2022/07/Screen-Shot-2022-07-05-at-12.51.42-PM.png
END:VEVENT
BEGIN:VEVENT
DTSTART;TZID=America/New_York:20260117T203000
DTEND;TZID=America/New_York:20260117T233000
DTSTAMP:20260424T065227
CREATED:20240507T174232Z
LAST-MODIFIED:20251230T181335Z
UID:10001275-1768681800-1768692600@ironsmokedistillery.com
SUMMARY:ConArtist
DESCRIPTION:ConArtist will be rocking all your favorite hits from the early 2000’s. Emo\, Alt Rock\, and even some of that heavy stuff 
URL:https://ironsmokedistillery.com/event/conartistt/
LOCATION:Iron Smoke Distillery\, 111 Parce Ave\, Fairport\, New York\, 14450\, United States
ATTACH;FMTTYPE=image/png:https://ironsmokedistillery.com/wp-content/uploads/2024/01/conartist.png
END:VEVENT
BEGIN:VEVENT
DTSTART;TZID=America/New_York:20260118T140000
DTEND;TZID=America/New_York:20260118T183000
DTSTAMP:20260424T065227
CREATED:20251230T182158Z
LAST-MODIFIED:20251230T182159Z
UID:10001566-1768744800-1768761000@ironsmokedistillery.com
SUMMARY:Skully's Scholastic Book Fair - Chapter 2
DESCRIPTION:RocOnly Events presents Skully’s Scholastic Adult Book Fair – Chapter 2 at Iron Smoke Distillery on Sunday\, January 18th from 2–6:30 p.m.Expect all the nostalgia of your childhood book fair mixed with the grown-up perks we all deserve: \n\n\n\n\n\n\n\n Shelves of books (fantasy\, romance\, paranormal + more) \n\n\n\n\n\n\n\n Local authors sharing their work \n\n\n\n\n\n\n\n Bookish-themed flash tattoos \n\n\n\n\n\n\n\n Candles & cozy finds \n\n\n\n\n\n\n\nPermanent Jewelry \n\n\n\n\n\n\n\n Cousins Maine Lobster food truck (YUM!) \n\n\n\n\n\n\n\n Craft cocktails from Iron Smoke DistilleryWhether you come for the stories\, the shopping\, or the spirits\, this is one book fair you won’t want to miss.
URL:https://ironsmokedistillery.com/event/skullys-scholastic-book-fair-chapter-2/
LOCATION:Iron Smoke Distillery\, 111 Parce Ave\, Fairport\, New York\, 14450\, United States
ATTACH;FMTTYPE=image/png:https://ironsmokedistillery.com/wp-content/uploads/2025/12/Screenshot-2025-12-30-at-1.20.42-PM.png
END:VEVENT
END:VCALENDAR