BEGIN:VCALENDAR
VERSION:2.0
PRODID:-//Iron Smoke Distillery - ECPv6.15.16.1//NONSGML v1.0//EN
CALSCALE:GREGORIAN
METHOD:PUBLISH
X-WR-CALNAME:Iron Smoke Distillery
X-ORIGINAL-URL:https://ironsmokedistillery.com
X-WR-CALDESC:Events for Iron Smoke Distillery
REFRESH-INTERVAL;VALUE=DURATION:PT1H
X-Robots-Tag:noindex
X-PUBLISHED-TTL:PT1H
BEGIN:VTIMEZONE
TZID:America/New_York
BEGIN:DAYLIGHT
TZOFFSETFROM:-0500
TZOFFSETTO:-0400
TZNAME:EDT
DTSTART:20250309T070000
END:DAYLIGHT
BEGIN:STANDARD
TZOFFSETFROM:-0400
TZOFFSETTO:-0500
TZNAME:EST
DTSTART:20251102T060000
END:STANDARD
BEGIN:DAYLIGHT
TZOFFSETFROM:-0500
TZOFFSETTO:-0400
TZNAME:EDT
DTSTART:20260308T070000
END:DAYLIGHT
BEGIN:STANDARD
TZOFFSETFROM:-0400
TZOFFSETTO:-0500
TZNAME:EST
DTSTART:20261101T060000
END:STANDARD
BEGIN:DAYLIGHT
TZOFFSETFROM:-0500
TZOFFSETTO:-0400
TZNAME:EDT
DTSTART:20270314T070000
END:DAYLIGHT
BEGIN:STANDARD
TZOFFSETFROM:-0400
TZOFFSETTO:-0500
TZNAME:EST
DTSTART:20271107T060000
END:STANDARD
END:VTIMEZONE
BEGIN:VEVENT
DTSTART;TZID=America/New_York:20260331T183000
DTEND;TZID=America/New_York:20260331T213000
DTSTAMP:20260422T060307
CREATED:20260316T210925Z
LAST-MODIFIED:20260316T210926Z
UID:10001587-1774981800-1774992600@ironsmokedistillery.com
SUMMARY:Acoustic Session: Nate Coffey
DESCRIPTION:
URL:https://ironsmokedistillery.com/event/acoustic-session-nate-coffey/
LOCATION:Iron Smoke Distillery\, 111 Parce Ave\, Fairport\, New York\, 14450\, United States
ATTACH;FMTTYPE=image/png:https://ironsmokedistillery.com/wp-content/uploads/2026/03/Screenshot-2026-03-16-at-5.07.46-PM.png
END:VEVENT
BEGIN:VEVENT
DTSTART;TZID=America/New_York:20260401T193000
DTEND;TZID=America/New_York:20260401T223000
DTSTAMP:20260422T060307
CREATED:20241011T192503Z
LAST-MODIFIED:20260320T194242Z
UID:10001376-1775071800-1775082600@ironsmokedistillery.com
SUMMARY:Live Band Karaoke – Sing with a live Rockstar Band!
DESCRIPTION:Live Band Karaoke is back with another all star line-up!Sing like a rock star in front of our live house band. $5 at the door. 6pm – 7pm warm up drink specials to get you ready to throw down some glorious vocal action.Iron Smokin’ Kick Ass Karaoke Band is:– Tyler Norton from M80’s– Gary Rose Solo and Double Dose– Brian Eberts from Appetite for Voltage and The Breakfast Club– Billy Eberts from Kiss This and The Breakfast Club
URL:https://ironsmokedistillery.com/event/live-band-karaoke-sing-with-a-live-rockstar-band-4/
LOCATION:Iron Smoke Distillery\, 111 Parce Ave\, Fairport\, New York\, 14450\, United States
ATTACH;FMTTYPE=image/png:https://ironsmokedistillery.com/wp-content/uploads/2024/01/Screen-Shot-2020-02-07-at-2.16.22-PM.png
END:VEVENT
BEGIN:VEVENT
DTSTART;TZID=America/New_York:20260402T193000
DTEND;TZID=America/New_York:20260402T223000
DTSTAMP:20260422T060307
CREATED:20260318T155206Z
LAST-MODIFIED:20260330T213324Z
UID:10001589-1775158200-1775169000@ironsmokedistillery.com
SUMMARY:Radio Star
DESCRIPTION:The 80s are clocking back in—loud\, electric\, and unapologetically neon. Radio Star is taking over Iron Smoke Distillery for a full night of synth‑driven anthems\, big‑hook rock\, and the kind of dance‑floor nostalgia that hits instantly. \n\n\n\nIf you want the soundtrack of MTV\, mixtapes\, and shoulder‑pad swagger\, this is your night. Bring the hair\, bring the hype\, and bring your best 80s attitude. Radio Star is ready to light up the room.
URL:https://ironsmokedistillery.com/event/radio-star/
LOCATION:Iron Smoke Distillery\, 111 Parce Ave\, Fairport\, New York\, 14450\, United States
ATTACH;FMTTYPE=image/png:https://ironsmokedistillery.com/wp-content/uploads/2026/03/Screenshot-2026-03-18-at-11.48.44-AM.png
END:VEVENT
BEGIN:VEVENT
DTSTART;TZID=America/New_York:20260403T203000
DTEND;TZID=America/New_York:20260403T233000
DTSTAMP:20260422T060307
CREATED:20251118T160850Z
LAST-MODIFIED:20260316T211759Z
UID:10001553-1775248200-1775259000@ironsmokedistillery.com
SUMMARY:JUNKYARD FIELDTRIP
DESCRIPTION:If the night before Thanksgiving is the biggest night of the year\, where would we rather be than the coolest room around? Join us for a great time – Friday\, April 3rd at Iron Smoke Distillery!
URL:https://ironsmokedistillery.com/event/junkyard-fieldtrip-6/
LOCATION:Iron Smoke Distillery\, 111 Parce Ave\, Fairport\, New York\, 14450\, United States
ATTACH;FMTTYPE=image/png:https://ironsmokedistillery.com/wp-content/uploads/2024/04/Screenshot-2024-04-24-at-1.49.22 PM.png
END:VEVENT
BEGIN:VEVENT
DTSTART;TZID=America/New_York:20260404T203000
DTEND;TZID=America/New_York:20260404T233000
DTSTAMP:20260422T060307
CREATED:20241011T183059Z
LAST-MODIFIED:20260316T211140Z
UID:10001362-1775334600-1775345400@ironsmokedistillery.com
SUMMARY:Alyssa Trahan Birthday Show!
DESCRIPTION:Alyssa Trahan FULL BAND returns to Iron Smoke Distillery! \n\n\n\n8:30 – 11:30pm \n\n\n\nCome see an energetic live show by Nashville artist and Rochester\, NY native ALYSSA TRAHAN! \n\n\n\nAlyssa Trahan is a singer\, songwriter\, multi-instrumentalist\, and producer based in Nashville\, TN. Originally from a small town in Rochester\, NY\, she quickly became known for her clear and impressive vocals\, clever songwriting\, and polished production work. In 2016\, she made the move to Nashville\, TN and has been making waves ever since with credits on Jimmy Kimmel\, The Young and the Restless\, dozens of cuts as a songwriter\, music in independent films\, and performances opening for names such as Morgan Wallen\, Jake Owen\, Sara Evans\, Charlie Daniels\, Tanya Tucker\, Maddie & Tae\, Josh Turner and so many more. Trahan is one to watch when it comes to the music industry and as American Songwriter put it\, “It’s not that Alyssa Trahan wants to take over country music. Just know that if it ever comes to that\, Trahan is a woman who can literally run the show.” \n\n\n\nLearn more at www.AlyssaTrahan.com
URL:https://ironsmokedistillery.com/event/alyssa-trahan/
LOCATION:Iron Smoke Distillery\, 111 Parce Ave\, Fairport\, New York\, 14450\, United States
ATTACH;FMTTYPE=image/png:https://ironsmokedistillery.com/wp-content/uploads/2024/10/Screenshot-2024-10-11-at-2.29.18 PM.png
END:VEVENT
END:VCALENDAR