BEGIN:VCALENDAR
VERSION:2.0
PRODID:-//Iron Smoke Distillery - ECPv6.15.16.1//NONSGML v1.0//EN
CALSCALE:GREGORIAN
METHOD:PUBLISH
X-ORIGINAL-URL:https://ironsmokedistillery.com
X-WR-CALDESC:Events for Iron Smoke Distillery
REFRESH-INTERVAL;VALUE=DURATION:PT1H
X-Robots-Tag:noindex
X-PUBLISHED-TTL:PT1H
BEGIN:VTIMEZONE
TZID:America/New_York
BEGIN:DAYLIGHT
TZOFFSETFROM:-0500
TZOFFSETTO:-0400
TZNAME:EDT
DTSTART:20250309T070000
END:DAYLIGHT
BEGIN:STANDARD
TZOFFSETFROM:-0400
TZOFFSETTO:-0500
TZNAME:EST
DTSTART:20251102T060000
END:STANDARD
BEGIN:DAYLIGHT
TZOFFSETFROM:-0500
TZOFFSETTO:-0400
TZNAME:EDT
DTSTART:20260308T070000
END:DAYLIGHT
BEGIN:STANDARD
TZOFFSETFROM:-0400
TZOFFSETTO:-0500
TZNAME:EST
DTSTART:20261101T060000
END:STANDARD
BEGIN:DAYLIGHT
TZOFFSETFROM:-0500
TZOFFSETTO:-0400
TZNAME:EDT
DTSTART:20270314T070000
END:DAYLIGHT
BEGIN:STANDARD
TZOFFSETFROM:-0400
TZOFFSETTO:-0500
TZNAME:EST
DTSTART:20271107T060000
END:STANDARD
END:VTIMEZONE
BEGIN:VEVENT
DTSTART;TZID=America/New_York:20260427T180000
DTEND;TZID=America/New_York:20260427T223000
DTSTAMP:20260421T135705
CREATED:20260318T183725Z
LAST-MODIFIED:20260318T183728Z
UID:10001591-1777312800-1777329000@ironsmokedistillery.com
SUMMARY:Ace Frehley Kiss Tribute Concert
DESCRIPTION:
URL:https://ironsmokedistillery.com/event/ace-frehley-kiss-tribute-concert/
LOCATION:Iron Smoke Distillery\, 111 Parce Ave\, Fairport\, New York\, 14450\, United States
ATTACH;FMTTYPE=image/png:https://ironsmokedistillery.com/wp-content/uploads/2026/03/Screenshot-2026-03-18-at-2.35.42-PM-1.png
END:VEVENT
BEGIN:VEVENT
DTSTART;TZID=America/New_York:20260430T193000
DTEND;TZID=America/New_York:20260430T223000
DTSTAMP:20260421T135705
CREATED:20240711T181938Z
LAST-MODIFIED:20260418T230202Z
UID:10001299-1777577400-1777588200@ironsmokedistillery.com
SUMMARY:The Uptown Groove: Women Who Rock
DESCRIPTION:The Uptown Groove will be performing at Iron Smoke Distillery on Thursday\, April 30th. Stop down and see them from 7:30pm – 10:30pm
URL:https://ironsmokedistillery.com/event/the-uptown-groove/
LOCATION:Iron Smoke Distillery\, 111 Parce Ave\, Fairport\, New York\, 14450\, United States
ATTACH;FMTTYPE=image/png:https://ironsmokedistillery.com/wp-content/uploads/2024/07/Screenshot-2024-07-11-at-2.16.04 PM.png
END:VEVENT
BEGIN:VEVENT
DTSTART;TZID=America/New_York:20260501T203000
DTEND;TZID=America/New_York:20260501T233000
DTSTAMP:20260421T135705
CREATED:20250905T234629Z
LAST-MODIFIED:20260319T174410Z
UID:10001530-1777667400-1777678200@ironsmokedistillery.com
SUMMARY:BB DANG
DESCRIPTION:BB Dang is a high-energy cover band based in Rochester NY\, playing top hits around the region.
URL:https://ironsmokedistillery.com/event/bb-dang-3/
LOCATION:Iron Smoke Distillery\, 111 Parce Ave\, Fairport\, New York\, 14450\, United States
ATTACH;FMTTYPE=image/png:https://ironsmokedistillery.com/wp-content/uploads/2023/01/Screen-Shot-2023-09-06-at-12.59.47-PM.png
END:VEVENT
END:VCALENDAR